BEGIN:VCALENDAR
VERSION:2.0
PRODID:-//SiberTime Teknoloji ve Bilgi G&uuml;venliği Hizmetleri - ECPv6.15.20//NONSGML v1.0//EN
CALSCALE:GREGORIAN
METHOD:PUBLISH
X-WR-CALNAME:SiberTime Teknoloji ve Bilgi G&uuml;venliği Hizmetleri
X-ORIGINAL-URL:https://sibertime.com.tr
X-WR-CALDESC:SiberTime Teknoloji ve Bilgi G&uuml;venliği Hizmetleri için etkinlikler
REFRESH-INTERVAL;VALUE=DURATION:PT1H
X-Robots-Tag:noindex
X-PUBLISHED-TTL:PT1H
BEGIN:VTIMEZONE
TZID:UTC
BEGIN:STANDARD
TZOFFSETFROM:+0000
TZOFFSETTO:+0000
TZNAME:UTC
DTSTART:20190101T000000
END:STANDARD
END:VTIMEZONE
BEGIN:VEVENT
DTSTART;TZID=UTC:20240318T080000
DTEND;TZID=UTC:20240614T170000
DTSTAMP:20260425T154320
CREATED:20240207T103025Z
LAST-MODIFIED:20240212T112823Z
UID:3308-1710748800-1718384400@sibertime.com.tr
SUMMARY:Offensive Security Certified Professional - OSCP Eğitim ve Sertifikasyon - Mart 2024
DESCRIPTION:OSCP sınavını geçmek için tam olarak bilmeniz gerekenleri  OSCP sertifikalı eğitmenlerimizden öğrenin. \nEğitim\, derslere ek olarak\, sizi sınava en iyi şekilde hazırlamak için sınavla ilgili makinelerde uygulamalı eğitimlerden oluşur. \nEğitim süresi 12 Hafta boyunca haftada 1 Gün ve 2 Saat ‘tir. Toplamda 24 saat canlı online eğitim gerçekleştirilecektir. \n12 haftalık yoğun OSCP eğitimimiz çevrimiçi olarak canlı olarak yürütülmektedir. Odak noktası\, katılımcılarla tartışmalar ve pratik alıştırmalardır. \nBu\, penetrasyon testinin daha derin ve daha pratik bir şekilde anlaşılmasını sağlar. OSCP sınavını geçmek için ihtiyacınız olan tüm desteği\, becerileri ve deneyimi eğitim ve eğitim süresi boyunca danışmanlık eşliğinde alacaksınız. \nMakine çözümü veya eğitim içeriği ile ilgili takıldığınız bir nokta mı oldu? Size yardım etmek için buradayız! \nCanlı eğitimlere ek olarak\, doğru yolu bulmanıza yardımcı olmak için 12 hafta boyunca yanınızdayız. \nOSCP sınavına hazırlanmanın sorunu\, genellikle alıştırmalar sırasında engellerle karşılaştığınızda destek eksikliğidir. Ancak bizim yardımımızla\, kendinizi zorlamayı ve başarıya en kısa sürede nasıl ulaşabileceğinizi fark etmeyi öğreneceksiniz. \nEğitim Dili: Türkçe  \nEğitim Süresi : 12 Hafta \nEğitim Planı: Haftada 1 Gün 2 Saat \nEğitim Ücreti: 3250 $ + KDV \nKayıt olmak için tıklayınız \nSizinle iletişime geçmemiz için tıklayınız \n \nSibertime Teknoloji ve Bilgi Güvenliği Hizmetleri Offensive Security Resmi Eğitim Kurumudur. \n                                          
URL:https://sibertime.com.tr/event/offensive-security-certified-professional-oscp-egitim-ve-sertifikasyon-mart-2024/
LOCATION:Online\, Online\, Istanbul\, Turkey
CATEGORIES:Siber Güvenlik
ORGANIZER;CN="Sibertime Teknoloji":MAILTO:satis@sibertime.com.tr - academy@sibertime.com.tr
END:VEVENT
BEGIN:VEVENT
DTSTART;VALUE=DATE:20231001
DTEND;VALUE=DATE:20240101
DTSTAMP:20260425T154320
CREATED:20230828T120736Z
LAST-MODIFIED:20230828T233034Z
UID:3255-1696118400-1704067199@sibertime.com.tr
SUMMARY:Offensive Security Certified Professional - OSCP Eğitim ve Sertifikasyon
DESCRIPTION:OSCP sınavını geçmek için tam olarak bilmeniz gerekenleri  OSCP sertifikalı eğitmenlerimizden öğrenin. \nEğitim\, derslere ek olarak\, sizi sınava en iyi şekilde hazırlamak için sınavla ilgili makinelerde uygulamalı eğitimlerden oluşur. \nEğitim süresi 12 Hafta boyunca haftada 1 Gün ve 2 Saat ‘tir. Toplamda 24 saat canlı online eğitim gerçekleştirilecektir. \n12 haftalık yoğun OSCP eğitimimiz çevrimiçi olarak canlı olarak yürütülmektedir. Odak noktası\, katılımcılarla tartışmalar ve pratik alıştırmalardır. \nBu\, penetrasyon testinin daha derin ve daha pratik bir şekilde anlaşılmasını sağlar. OSCP sınavını geçmek için ihtiyacınız olan tüm desteği\, becerileri ve deneyimi eğitim ve eğitim süresi boyunca danışmanlık eşliğinde alacaksınız. \nMakine çözümü veya eğitim içeriği ile ilgili takıldığınız bir nokta mı oldu? Size yardım etmek için buradayız! \nCanlı eğitimlere ek olarak\, doğru yolu bulmanıza yardımcı olmak için 12 hafta boyunca yanınızdayız. \nOSCP sınavına hazırlanmanın sorunu\, genellikle alıştırmalar sırasında engellerle karşılaştığınızda destek eksikliğidir. Ancak bizim yardımımızla\, kendinizi zorlamayı ve başarıya en kısa sürede nasıl ulaşabileceğinizi fark etmeyi öğreneceksiniz. \nEğitim Dili: Türkçe  \nEğitim Süresi : 12 Hafta \nEğitim Planı: Haftada 1 Gün 2 Saat \nKayıt olmak için tıklayınız \n \nSibertime Teknoloji ve Bilgi Güvenliği Hizmetleri Offensive Security Resmi Eğitim Kurumudur. \n                                          
URL:https://sibertime.com.tr/event/oscp-1012/
LOCATION:Online\, Online\, Istanbul\, Turkey
CATEGORIES:Siber Güvenlik
ORGANIZER;CN="Sibertime Teknoloji":MAILTO:satis@sibertime.com.tr - academy@sibertime.com.tr
END:VEVENT
BEGIN:VEVENT
DTSTART;VALUE=DATE:20221120
DTEND;VALUE=DATE:20221122
DTSTAMP:20260425T154320
CREATED:20221103T102633Z
LAST-MODIFIED:20230412T111106Z
UID:2064-1668978000-1669064399@sibertime.com.tr
SUMMARY:Offensive Security Certified Professional - OSCP Eğitim ve Sertifikasyon
DESCRIPTION:OSCP sınavını geçmek için tam olarak bilmeniz gerekenleri  OSCP sertifikalı eğitmenlerimizden öğrenin. \nEğitim\, derslere ek olarak\, sizi sınava en iyi şekilde hazırlamak için sınavla ilgili makinelerde uygulamalı eğitimlerden oluşur. \nEğitim süresi 12 Hafta boyunca haftada 1 Gün ve 6 Saat ‘tir. Toplamda 72 saat canlı online eğitim gerçekleştirilecektir. \n12 haftalık yoğun OSCP eğitimimiz çevrimiçi olarak canlı olarak yürütülmektedir. Odak noktası\, katılımcılarla tartışmalar ve pratik alıştırmalardır. \nBu\, penetrasyon testinin daha derin ve daha pratik bir şekilde anlaşılmasını sağlar. OSCP sınavını geçmek için ihtiyacınız olan tüm desteği\, becerileri ve deneyimi eğitim ve eğitim süresi boyunca danışmanlık eşliğinde alacaksınız. \nMakine çözümü veya eğitim içeriği ile ilgili takıldığınız bir nokta mı oldu? Size yardım etmek için buradayız! \nCanlı eğitimlere ek olarak\, doğru yolu bulmanıza yardımcı olmak için 12 hafta boyunca yanınızdayız. \nOSCP sınavına hazırlanmanın sorunu\, genellikle alıştırmalar sırasında engellerle karşılaştığınızda destek eksikliğidir. Ancak bizim yardımımızla\, kendinizi zorlamayı ve başarıya en kısa sürede nasıl ulaşabileceğinizi fark etmeyi öğreneceksiniz. \nEğitim Dili: Türkçe  \nEğitim Süresi : 12 Hafta \nEğitim Planı: Haftada 1 Gün 6 Saat \nÖn Başvuru için Tıklayın \nEğitim Ücreti ile ilgili detaylar başvurunuz sonrasında e-postanıza gönderilecektir. \n\nSibertime Teknoloji ve Bilgi Güvenliği Hizmetleri Offensive Security Resmi Eğitim Kurumudur.
URL:https://sibertime.com.tr/event/oscp/
LOCATION:Online\, Online\, Istanbul\, Turkey
ORGANIZER;CN="Sibertime Teknoloji":MAILTO:satis@sibertime.com.tr - academy@sibertime.com.tr
END:VEVENT
BEGIN:VEVENT
DTSTART;VALUE=DATE:20221027
DTEND;VALUE=DATE:20221028
DTSTAMP:20260425T154320
CREATED:20221014T150007Z
LAST-MODIFIED:20221103T123355Z
UID:2025-1666828800-1666915199@sibertime.com.tr
SUMMARY:Offensive Security Certified Professional Eğitimi - TR
DESCRIPTION:Eğitim Dili: Türkçe \nEğitim Süresi : 12 Hafta \nEğitim Planı: Haftada 1 Gün 1 Saat \nKayıt: Kapalı \nİLGİNİZ İÇİN TEŞEKKÜR EDERİZ KAYITLARIMIZ DOLMUŞTUR.
URL:https://sibertime.com.tr/event/offensive-security-certified-professional-egitimi-tr/
LOCATION:Online\, Online\, Istanbul\, Turkey
CATEGORIES:Seminer,Siber Güvenlik
ORGANIZER;CN="Sibertime Teknoloji":MAILTO:satis@sibertime.com.tr - academy@sibertime.com.tr
END:VEVENT
BEGIN:VEVENT
DTSTART;TZID=UTC:20200901T000000
DTEND;TZID=UTC:20200901T235900
DTSTAMP:20260425T154320
CREATED:20200820T161419Z
LAST-MODIFIED:20220324T233403Z
UID:1407-1598918400-1599004740@sibertime.com.tr
SUMMARY:Network-Sızma-Testi-Eğitim
DESCRIPTION:Network Sızma Testi yaklaşımlarını Sibertime gözüyle…
URL:https://sibertime.com.tr/event/network-sizma-testi-egitim/
LOCATION:Online\, Online\, Istanbul\, Turkey
ORGANIZER;CN="Sibertime Teknoloji":MAILTO:satis@sibertime.com.tr - academy@sibertime.com.tr
END:VEVENT
END:VCALENDAR